BEGIN:VCALENDAR
PRODID:-//github.com/rianjs/ical.net//NONSGML ical.net 4.0//EN
VERSION:2.0
BEGIN:VEVENT
DESCRIPTION:Nätverket för folkbibliotekschefer träffas för att diskutera a
 ktuella frågor.
DTEND:20260518T100000
DTSTAMP:20260424T173443Z
DTSTART:20260518T083000
LOCATION:Digitalt
SEQUENCE:0
SUMMARY:Bibliotekschefsmöte
UID:c13b27a5-d1a9-4c11-8da3-85e1f5647194
END:VEVENT
END:VCALENDAR
