BEGIN:VCALENDAR
PRODID:-//github.com/rianjs/ical.net//NONSGML ical.net 4.0//EN
VERSION:2.0
BEGIN:VEVENT
DESCRIPTION:Nätverket för folkbibliotekschefer träffas för att diskutera a
 ktuella frågor.
DTEND:20260615T100000
DTSTAMP:20260424T173217Z
DTSTART:20260615T083000
LOCATION:Digitalt
SEQUENCE:0
SUMMARY:Bibliotekschefsmöte
UID:12adcbcd-4746-4337-a75b-4a6ddcbb3bc5
END:VEVENT
END:VCALENDAR
