BEGIN:VCALENDAR
PRODID:-//github.com/rianjs/ical.net//NONSGML ical.net 4.0//EN
VERSION:2.0
BEGIN:VEVENT
DESCRIPTION:Uppstartsträffen vänder sig till projektansvariga i de fyra pr
 ojektkommuner som ingår i Språknycklar år 1 (utvecklingsprojekt Bokstart)
 .
DTEND:20260608T160000
DTSTAMP:20260424T172540Z
DTSTART:20260608T130000
LOCATION:Digitalt
SEQUENCE:0
SUMMARY:Digitalt avstämningsmöte för projektansvariga Språknycklar år 1.
UID:2326501c-9713-4d93-8b16-b7c4e12e906e
END:VEVENT
END:VCALENDAR
