BEGIN:VCALENDAR
PRODID:-//github.com/rianjs/ical.net//NONSGML ical.net 4.0//EN
VERSION:2.0
BEGIN:VEVENT
DESCRIPTION:Det här är femte och sista träffen i studiecirkeln Bibliotek i
  beredskap - att planera för kris. Rubriken för träffen är: Att bygga res
 iliens.
DTEND:20260520T100000
DTSTAMP:20260424T173458Z
DTSTART:20260520T090000
LOCATION:Digitalt
SEQUENCE:0
SUMMARY:Studiecirkel Bibliotek i beredskap
UID:efe6c51e-c035-4695-ad99-d8f623d30d11
END:VEVENT
END:VCALENDAR
