BEGIN:VCALENDAR
PRODID:-//github.com/rianjs/ical.net//NONSGML ical.net 4.0//EN
VERSION:2.0
BEGIN:VEVENT
DESCRIPTION:Träffen riktar sig till dig som är chef eller medarbetare inom
  folkbibliotek i Kalmar län.
DTEND:20260521T093000
DTSTAMP:20260424T172139Z
DTSTART:20260521T083000
LOCATION:Digitalt
SEQUENCE:0
SUMMARY:Tema timme: Biblioteket som folkhälsoaktör i lokalsamhället
UID:a54cc5d2-7739-4c10-a277-b9ecc0004241
END:VEVENT
END:VCALENDAR
