BEGIN:VCALENDAR
PRODID:-//github.com/rianjs/ical.net//NONSGML ical.net 4.0//EN
VERSION:2.0
BEGIN:VEVENT
DTEND:20260507T150000
DTSTAMP:20260424T173653Z
DTSTART:20260507T130000
LOCATION:Digitalt
SEQUENCE:0
SUMMARY:Träff för kontaktpersoner för små barns språkutveckling
UID:edbc4b2f-fd0d-4e24-bd77-32f355c60852
END:VEVENT
END:VCALENDAR
