BEGIN:VCALENDAR
PRODID:-//github.com/rianjs/ical.net//NONSGML ical.net 4.0//EN
VERSION:2.0
BEGIN:VEVENT
DESCRIPTION:Träff för dig som är läsledare i Shared Reading på folkbibliot
 ek i Kalmar län
DTEND:20260527T153000
DTSTAMP:20260424T172242Z
DTSTART:20260527T090000
LOCATION:Kalmar stadsbibliotek
SEQUENCE:0
SUMMARY:Träff för läsledare i Shared Reading
UID:500ab73b-9403-4a13-82e5-4a3a5ae375f0
END:VEVENT
END:VCALENDAR
