BEGIN:VCALENDAR
PRODID:-//github.com/rianjs/ical.net//NONSGML ical.net 4.0//EN
VERSION:2.0
BEGIN:VEVENT
DESCRIPTION:Träff för dig som jobbar med digitala frågor på folkbibliotek 
 i Kalmar län.
DTEND:20260520T100000
DTSTAMP:20260424T172728Z
DTSTART:20260520T083000
LOCATION:Digitalt
SEQUENCE:0
SUMMARY:Träff med  nätverket för digitala frågor
UID:0d966795-dd2f-430b-8838-cd44c68571ca
END:VEVENT
END:VCALENDAR
