BEGIN:VCALENDAR
PRODID:-//github.com/rianjs/ical.net//NONSGML ical.net 4.0//EN
VERSION:2.0
BEGIN:VEVENT
DESCRIPTION:Träff för dig som jobbar med tillgänglig läsning på folkbiblio
 tek i Kalmar län.\n
DTEND:20260602T153000
DTSTAMP:20260424T173653Z
DTSTART:20260602T090000
LOCATION:Mönsterås bibliotek
SEQUENCE:0
SUMMARY:Träff med nätverket för tillgänglig läsning
UID:016da597-e5e4-46d3-af5f-683c76248d3b
END:VEVENT
END:VCALENDAR
