BEGIN:VCALENDAR
PRODID:-//github.com/rianjs/ical.net//NONSGML ical.net 4.0//EN
VERSION:2.0
BEGIN:VEVENT
DESCRIPTION:En workshop för dig som arbetar med mångspråk\, inköp och kata
 logisering på folkbibliotek i Kalmar län.
DTEND:20260429T153000
DTSTAMP:20260424T173617Z
DTSTART:20260429T090000
LOCATION:Oskarshamns bibliotek
SEQUENCE:0
SUMMARY:Workshop med mångspråkiga lånecentralen (MLC)
UID:1ac37188-4e9b-4dda-9f13-ce685273b758
END:VEVENT
END:VCALENDAR
